BEGIN:VCALENDAR
VERSION:2.0
METHOD:PUBLISH
PRODID:-//Telerik Inc.//Sitefinity CMS 13.3//EN
BEGIN:VTIMEZONE
TZID:Romance Standard Time
BEGIN:STANDARD
DTSTART:20251002T030000
RRULE:FREQ=YEARLY;BYDAY=-1SU;BYHOUR=3;BYMINUTE=0;BYMONTH=10
TZNAME:Romance Standard Time
TZOFFSETFROM:+0200
TZOFFSETTO:+0100
END:STANDARD
BEGIN:DAYLIGHT
DTSTART:20250301T020000
RRULE:FREQ=YEARLY;BYDAY=-1SU;BYHOUR=2;BYMINUTE=0;BYMONTH=3
TZNAME:Romance Daylight Time
TZOFFSETFROM:+0100
TZOFFSETTO:+0200
END:DAYLIGHT
END:VTIMEZONE
BEGIN:VEVENT
DESCRIPTION:Sopra Steria is proud to be a key participant at the iBestuur C
 ongress 2024\, taking place on September 11th at the NBC Congrescentrum in
  Nieuwegein.This annual event gathers approximately 900 professionals from
  Dutch government institutions\, public organizations\, education\, scienc
 e\, and the IT sector. It serves as a platform for exchanging knowledge an
 d discussing the digital transformation of society and the advancement of 
 a reliable\, customer-centric government.At this year's conference\, Sopra
  Steria will host three insightful sessions led by our experts\, highlight
 ing our contributions to the digital transformation of the Dutch governmen
 t:iBestuur Partner Session: Marco Brattinga\, Solution Lead BU Data Manage
 ment and Governance at Sopra Steria NL\, will be the moderator of a roundt
 able exploring how transparent and well-organised information management c
 an improve public services. Participants of the roundtable are Reijer Pass
 chier\, Professor of Digitalisation and the Democratic Rule of Law\, Nanet
 te van Schelven\, Director-General of Customs and Leo Peereboom\, Director
  of Information Provision and Procurement Main Directorate of Business Ope
 rations at the Ministry of Justice and Security.iBestuur Session: Market a
 nd Government: Dennis Struyk\, Director of Government at Sopra Steria NL\,
  will share valuable lessons from the Adviescollege ICT-toetsing'\, discus
 sing key aspects such as tendering\, management\, client-contractor intera
 ctions\, and managing scope and costs.Ministry of Foreign Affairs Session 
 on Cybersecurity: Eelco Stofbergen\, Director of Cybersecurity &amp\; Comp
 liance at Sopra Steria NL\, will address the complexities of cybersecurity
  in major global events like the Olympic Games. The Sopra Steria Group is 
 actively contributing to the security of the Paris Olympic Games with its 
 cutting-edge anti-drone solution.Discover more about iBestuur Congress 202
 4 and explore the full program by visiting the event website.
DTEND:20240911T160000Z
DTSTAMP:20260424T075721Z
DTSTART:20240911T070000Z
LOCATION:
SEQUENCE:0
SUMMARY:iBestuur Congress: Pioneering the Future of Digital Governance
UID:RFCALITEM639126214413141345
X-ALT-DESC;FMTTYPE=text/html:<p>Sopra Steria is proud to be a key participa
 nt at the iBestuur Congress 2024\, taking place on September 11th at the N
 BC Congrescentrum in Nieuwegein.</p><p>This annual event gathers approxima
 tely 900 professionals from Dutch government institutions\, public organiz
 ations\, education\, science\, and the IT sector. It serves as a platform 
 for exchanging knowledge and discussing the digital transformation of soci
 ety and the advancement of a reliable\, customer-centric government.</p><p
 >At this year's conference\, Sopra Steria will host three insightful sessi
 ons led by our experts\, highlighting our contributions to the digital tra
 nsformation of the Dutch government:</p><ul><li><strong>iBestuur Partner S
 ession:</strong> Marco Brattinga\, Solution Lead BU Data Management and Go
 vernance at Sopra Steria NL\, will be the moderator of a roundtable explor
 ing how transparent and well-organised information management can improve 
 public services. Participants of the roundtable are Reijer Passchier\, Pro
 fessor of Digitalisation and the Democratic Rule of Law\, Nanette van Sche
 lven\, Director-General of Customs and Leo Peereboom\, Director of Informa
 tion Provision and Procurement Main Directorate of Business Operations at 
 the Ministry of Justice and Security.<br></li><li><strong>iBestuur Session
 : Market and Government: </strong>Dennis Struyk\, Director of Government a
 t Sopra Steria NL\, will share valuable lessons from the Adviescollege ICT
 -toetsing'\, discussing key aspects such as tendering\, management\, clien
 t-contractor interactions\, and managing scope and costs.</li><li><strong>
 Ministry of Foreign Affairs Session on Cybersecurity: </strong>Eelco Stofb
 ergen\, Director of Cybersecurity &amp\; Compliance at Sopra Steria NL\, w
 ill address the complexities of cybersecurity in major global events like 
 the Olympic Games. The Sopra Steria Group is actively contributing to the 
 security of the Paris Olympic Games with its <a href="https://www.csgroup.
 eu/en/offerings-solutions/surveillance-command-systems/counter-uav-system/
 " target="_blank">cutting-edge anti-drone solution</a>.</li></ul><p>Discov
 er more about iBestuur Congress 2024 and explore the full program by visit
 ing the event <a href="https://www.ibestuurcongres.nl/2024/home">website</
 a>.<br></p>
END:VEVENT
END:VCALENDAR
