BEGIN:VCALENDAR
VERSION:2.0
METHOD:PUBLISH
PRODID:-//Telerik Inc.//Sitefinity CMS 13.3//EN
BEGIN:VTIMEZONE
TZID:UTC
BEGIN:STANDARD
DTSTART;VALUE=DATE:20250101
TZNAME:UTC
TZOFFSETFROM:+0000
TZOFFSETTO:+0000
END:STANDARD
END:VTIMEZONE
BEGIN:VEVENT
DESCRIPTION:📅&nbsp\;Date:&nbsp\;Friday\, November 28\, 2025 | 🕘&nbsp\;Tim
 e:&nbsp\;11:00 – 12:00 CET💻 Online:&nbsp\; Live Online Webinar&nbsp\;Rese
 rve your spot now&nbsp\;Explore concrete GenAI strategies and agentic AI i
 nsights reshaping the financial sector.&nbsp\;&nbsp\;Join Sopra Steria’s F
 inancial Services leaders on November 28 for a live discussion on how Gene
 rative AI is reshaping the financial industry. This exclusive session for 
 Financial Services will highlight key use cases from Sopra Steria’s GenAI 
 Report\, with a special focus on strategic GenAI initiatives already under
 way in Italy.&nbsp\;&nbsp\;The discussion will conclude with a forward-loo
 king exploration of agentic intelligence – autonomous AI systems capable o
 f executing complex tasks and delivering business value across compliance\
 , operations\, and customer experience.&nbsp\;&nbsp\;Expect practical insi
 ghts\, regional case studies\, and a Q&amp\;A with Sopra Steria’s senior e
 xperts in financial AI.&nbsp\;Key Topics Covered&nbsp\;Strategic GenAI ini
 tiatives in Italy&nbsp\;Use cases from Sopra Steria’s GenAI Report&nbsp\;T
 he rise of agentic intelligence in finance&nbsp\;Business and regulatory i
 mplications for FS leaders&nbsp\;SpeakersShalini Misra – Strategic Digital
  Transformation Leader\, Sopra Steria&nbsp\;Bruno Maillot – AI for Busines
 s Consulting\, Sopra Steria&nbsp\;Marine Lecomte – Head of Offers &amp\; I
 nnovation Financial Services\, Sopra Steria&nbsp\;Isabelle Pons – Deputy D
 irector\, AI for Business Practice\, Sopra Steria Next&nbsp\;Federico Chie
 ppa – Salesforce Practice Lead\, Sopra Steria&nbsp\;Reserve your spot now&
 nbsp\;
DTEND:20251128T170000Z
DTSTAMP:20260424T075402Z
DTSTART:20251128T160000Z
LOCATION:
SEQUENCE:0
SUMMARY:GenAI for Finance – How AI is Reshaping the Financial Industry
UID:RFCALITEM639126212428849341
X-ALT-DESC;FMTTYPE=text/html:<p>📅&nbsp\;<strong>Date:&nbsp\;</strong>Frida
 y\, November 28\, 2025 | </p><p>🕘&nbsp\;<strong>Time:&nbsp\;</strong>11:0
 0 – 12:00 CET</p><p><strong>💻 Online:</strong>&nbsp\; Live Online Webinar
 &nbsp\;</p><p><a href="https://app.livestorm.co/sopra-steria-5/genai-for-f
 inance/live?s=6f048a44-1c81-4f99-a302-af47b2337487#/" target="_blank" clas
 s="btn-ssg">Reserve your spot now&nbsp\;</a></p><div><h3 style="text-align
 : center">Explore concrete GenAI strategies and agentic AI insights <br>re
 shaping the financial sector.&nbsp\;</h3></div><div><p>&nbsp\;<span style=
 "background-color: rgba(0\, 0\, 0\, 0)\; color: inherit\; font-family: inh
 erit\; font-size: inherit\; text-align: inherit\; text-transform: inherit\
 ; word-spacing: normal\; white-space: inherit">Join Sopra Steria’s Financi
 al Services leaders on November 28 for a live discussion on how Generative
  AI is reshaping the financial industry. This exclusive session for Financ
 ial Services will highlight key use cases from Sopra Steria’s GenAI Report
 \, with a special focus on strategic GenAI initiatives already underway in
  Italy.&nbsp\;</span><span style="background-color: rgba(0\, 0\, 0\, 0)\; 
 color: inherit\; font-family: inherit\; font-size: inherit\; text-align: i
 nherit\; text-transform: inherit\; word-spacing: normal\; white-space: inh
 erit">&nbsp\;</span></p></div><p>The discussion will conclude with a forwa
 rd-looking exploration of agentic intelligence – autonomous AI systems cap
 able of executing complex tasks and delivering business value across compl
 iance\, operations\, and customer experience.&nbsp\;<br>&nbsp\;<br>Expect 
 practical insights\, regional case studies\, and a Q&amp\;A with Sopra Ste
 ria’s senior experts in financial AI.&nbsp\;<br><span style="background-co
 lor: rgba(0\, 0\, 0\, 0)\; color: inherit\; font-family: inherit\; font-si
 ze: inherit\; text-align: inherit\; text-transform: inherit\; word-spacing
 : normal\; white-space: inherit"></span></p><h3><span style="background-co
 lor: rgba(0\, 0\, 0\, 0)\; color: inherit\; font-family: inherit\; font-si
 ze: inherit\; text-align: inherit\; text-transform: inherit\; word-spacing
 : normal\; white-space: inherit">Key Topics Covered&nbsp\;</span></h3><ul>
 <li>Strategic GenAI initiatives in Italy&nbsp\;</li><li>Use cases from Sop
 ra Steria’s GenAI Report&nbsp\;</li><li>The rise of agentic intelligence i
 n finance&nbsp\;</li><li>Business and regulatory implications for FS leade
 rs&nbsp\;</li></ul><p></p><div><h3>Speakers</h3></div><ul><li><strong>Shal
 ini Misra – </strong>Strategic Digital Transformation Leader\, Sopra Steri
 a&nbsp\;</li><li><strong>Bruno Maillot –</strong> AI for Business Consulti
 ng\, Sopra Steria&nbsp\;</li><li><strong>Marine Lecomte – </strong>Head of
  Offers &amp\; Innovation Financial Services\, Sopra Steria&nbsp\;</li><li
 ><strong>Isabelle Pons – </strong>Deputy Director\, AI for Business Practi
 ce\, Sopra Steria Next&nbsp\;</li><li><strong>Federico Chieppa – </strong>
 Salesforce Practice Lead\, Sopra Steria&nbsp\;</li></ul><p><a href="https:
 //app.livestorm.co/sopra-steria-5/genai-for-finance/live?s=6f048a44-1c81-4
 f99-a302-af47b2337487#/" target="_blank" class="btn-ssg">Reserve your spot
  now&nbsp\;</a></p><p></p>
END:VEVENT
END:VCALENDAR
