BEGIN:VCALENDAR
VERSION:2.0
METHOD:PUBLISH
PRODID:-//Telerik Inc.//Sitefinity CMS 13.3//EN
BEGIN:VTIMEZONE
TZID:W. Europe Standard Time
BEGIN:STANDARD
DTSTART:20251002T030000
RRULE:FREQ=YEARLY;BYDAY=-1SU;BYHOUR=3;BYMINUTE=0;BYMONTH=10
TZNAME:W. Europe Standard Time
TZOFFSETFROM:+0200
TZOFFSETTO:+0100
END:STANDARD
BEGIN:DAYLIGHT
DTSTART:20250301T020000
RRULE:FREQ=YEARLY;BYDAY=-1SU;BYHOUR=2;BYMINUTE=0;BYMONTH=3
TZNAME:W. Europe Daylight Time
TZOFFSETFROM:+0100
TZOFFSETTO:+0200
END:DAYLIGHT
END:VTIMEZONE
BEGIN:VEVENT
DESCRIPTION:On the 5th of September\, Sopra Steria will be hosting the seco
 nd iteration of the FrontEnd Festival! Join us for an evening of talks abo
 ut various topics in the world of opensource Frontend development.Last yea
 r we had a blast and got together with over a hundred Frontend enthusiasts
  from around the Utrecht area. Join us for dinner\, get inspired by the ta
 lks and stay for the company.You can register on the&nbsp\; FrontEnd Festi
 val website
DTEND:20240905T100000Z
DTSTAMP:20260424T075633Z
DTSTART:20240905T090000Z
LOCATION:
SEQUENCE:0
SUMMARY:FrontEnd Festival 2024
UID:RFCALITEM639126213934848362
X-ALT-DESC;FMTTYPE=text/html:<p>On the 5th of September\, Sopra Steria will
  be hosting the second iteration of the FrontEnd Festival! Join us for an 
 evening of talks about various topics in the world of opensource Frontend 
 development.</p><p>Last year we had a blast and got together with over a h
 undred Frontend enthusiasts from around the Utrecht area. Join us for dinn
 er\, get inspired by the talks and stay for the company.</p><p>You can reg
 ister on the&nbsp\; <a href="https://frontendfestival.nl/" target="_blank"
  class="btn-ssg">FrontEnd Festival website</a></p>
END:VEVENT
END:VCALENDAR
