BEGIN:VCALENDAR
VERSION:2.0
METHOD:PUBLISH
PRODID:-//Telerik Inc.//Sitefinity CMS 13.3//EN
BEGIN:VTIMEZONE
TZID:W. Europe Standard Time
BEGIN:STANDARD
DTSTART:20251002T030000
RRULE:FREQ=YEARLY;BYDAY=-1SU;BYHOUR=3;BYMINUTE=0;BYMONTH=10
TZNAME:W. Europe Standard Time
TZOFFSETFROM:+0200
TZOFFSETTO:+0100
END:STANDARD
BEGIN:DAYLIGHT
DTSTART:20250301T020000
RRULE:FREQ=YEARLY;BYDAY=-1SU;BYHOUR=2;BYMINUTE=0;BYMONTH=3
TZNAME:W. Europe Daylight Time
TZOFFSETFROM:+0100
TZOFFSETTO:+0200
END:DAYLIGHT
END:VTIMEZONE
BEGIN:VEVENT
DESCRIPTION:Join the Belgian Edition of the 8th edition of the CASSINI Hack
 athon organised by Sopra Steria&nbsp\;CASSINI Hackathon Belgium - Space fo
 r defence and security&nbsp\;Register now/ Know more&nbsp\;&nbsp\;Why Atte
 nd?&nbsp\;Together with our dedicated experts and mentors\, you will ideat
 e and develop a project to maybe win one of the prices and the chance to c
 ompete the EU final with the other 10 countries winners! 🏆Key Themes&nbsp
 \;You will spend the weekend building a solution to one of the following c
 hallenges:&nbsp\;&nbsp\;Challenge #1 Enhancing defence &amp\; security wit
 h geospatial intelligence&nbsp\;Challenge #2 Unmanned drone applications f
 or defence &amp\; security operations&nbsp\;Challenge #3 Orbital security:
  navigating the collision frontier&nbsp\;Event details:&nbsp\;Date: 22 to 
 24 of November 2024&nbsp\;Location: ESA-ESEC in Redu\, Belgium or online.&
 nbsp\;The event is accessible to EU citizens only.&nbsp\;&nbsp\;Participat
 ion is totally free. Places on site are limited\, registrations close on 1
 5 November!&nbsp\;Secure your spot now&nbsp\;
DTEND:20241124T120000Z
DTSTAMP:20260424T080313Z
DTSTART:20241122T110000Z
LOCATION:
SEQUENCE:0
SUMMARY:Belgium 8th CASSINI Hackathon - EU Space for defence and security
UID:RFCALITEM639126217932645290
X-ALT-DESC;FMTTYPE=text/html:<div><h3>Join the Belgian Edition of the 8th e
 dition of the CASSINI Hackathon organised by Sopra Steria&nbsp\;</h3></div
 ><div><p>CASSINI Hackathon Belgium - Space for defence and security&nbsp\;
 </p></div><div><p><a href="https://taikai.network/cassinihackathons/hackat
 hons/euspace-defence-security" class="btn-ssg" target="_blank">Register no
 w/ Know more&nbsp\;&nbsp\;</a></p></div><div><h3>Why Attend?&nbsp\;</h3></
 div><div><p>Together with our dedicated experts and mentors\, you will ide
 ate and develop a project to maybe win one of the prices and the chance to
  compete the EU final with the other 10 countries winners! 🏆</p></div><di
 v><h3>Key Themes&nbsp\;</h3></div><div><p>You will spend the weekend build
 ing a solution to one of the following challenges:&nbsp\;&nbsp\;</p></div>
 <ul><li><p><strong>Challenge #1</strong> Enhancing defence &amp\; security
  with geospatial intelligence&nbsp\;</p></li><li><p><strong>Challenge #2</
 strong> Unmanned drone applications for defence &amp\; security operations
 &nbsp\;</p></li><li><p><strong>Challenge #3</strong> Orbital security: nav
 igating the collision frontier&nbsp\;</p></li></ul><div><h3>Event details:
 &nbsp\;</h3></div><ul><li><p><strong>Date:</strong> 22 to 24 of November 2
 024&nbsp\;</p></li><li><p><strong>Location:</strong> ESA-ESEC in Redu\, Be
 lgium or online.&nbsp\;</p></li><li><p>The event is accessible to <strong>
 EU citizens</strong> only.&nbsp\;</p><p>&nbsp\;</p></li></ul><div><h3>Part
 icipation is totally free. Places on site are limited\, registrations clos
 e on 15 November!&nbsp\;</h3></div><div><p><a href="https://taikai.network
 /cassinihackathons/hackathons/euspace-defence-security" class="btn-ssg" ta
 rget="_blank">Secure your spot now&nbsp\;</a></p></div>
END:VEVENT
END:VCALENDAR
