BEGIN:VCALENDAR
VERSION:2.0
METHOD:PUBLISH
PRODID:-//Telerik Inc.//Sitefinity CMS 13.3//EN
BEGIN:VTIMEZONE
TZID:W. Europe Standard Time
BEGIN:STANDARD
DTSTART:20251002T030000
RRULE:FREQ=YEARLY;BYDAY=-1SU;BYHOUR=3;BYMINUTE=0;BYMONTH=10
TZNAME:W. Europe Standard Time
TZOFFSETFROM:+0200
TZOFFSETTO:+0100
END:STANDARD
BEGIN:DAYLIGHT
DTSTART:20250301T020000
RRULE:FREQ=YEARLY;BYDAY=-1SU;BYHOUR=2;BYMINUTE=0;BYMONTH=3
TZNAME:W. Europe Daylight Time
TZOFFSETFROM:+0100
TZOFFSETTO:+0200
END:DAYLIGHT
END:VTIMEZONE
BEGIN:VEVENT
DESCRIPTION:📅&nbsp\;Date:&nbsp\;&nbsp\; Tuesday\, October 8\, 2025🕘 Time:
  9:30 AM – 10:40 AM CET&nbsp\;💻 Online: Free to attendRegister HereHow do
  you stay relevant in a multi-wallet world?&nbsp\;As mobile wallets and pr
 oximity payments evolve\, banks face a pivotal challenge: own the interfac
 e or become invisible. With PSD3 and the Payment Services Regulation (PSR)
  on the horizon\, new models like Tap to Pay by Account are no longer nich
 e\, they’re defining the future of in-store payments.&nbsp\;In this 70-min
 ute webinar\, we explore how leading European players are shaping the next
  wave of payment experiences\, and what that means for banks across the Be
 nelux and beyond.&nbsp\;This session will equip you with answers to questi
 ons like:&nbsp\;What does Tap to Pay by Account mean for customer journeys
 ?&nbsp\;How do wallet ecosystems and NFC innovations disrupt traditional P
 OS strategies?&nbsp\;What regulatory shifts (PSD3\, PSR) must banks antici
 pate now?&nbsp\;How can financial institutions remain visible and trusted 
 in third-party wallets?&nbsp\;Speakers:Ludovic FRANCESCONI&nbsp\;Chief Mem
 ber &amp\; Strategy Officer\, EPI WERO&nbsp\;Philippe LEDRU&nbsp\;VP Sales
  Europe\, IDEMIA&nbsp\;Christian PIRKNER&nbsp\;CEO\, Bluecode&nbsp\;Bjorn 
 SKJELBRED&nbsp\;SVP International Business Development\, VIPPS MobilePay&n
 bsp\;Moderator: Guillaume YRIBARREN&nbsp\;Consulting Managing Director\, G
 alitt (Sopra Steria Group)&nbsp\;Registration&nbsp\;Reserve your spot now 
 and join us live:Register HereMore insights&nbsp\;Interested in exploring 
 how digital wallets are evolving in Europe? Download our white paper: The 
 Battle of Wallets&nbsp\;
DTEND:20251008T160000Z
DTSTAMP:20260424T075858Z
DTSTART:20251008T150000Z
LOCATION:
SEQUENCE:0
SUMMARY:Hybrid Payments – Europe’s Next In-Store Revolution
UID:RFCALITEM639126215387868886
X-ALT-DESC;FMTTYPE=text/html:<p><strong>📅&nbsp\;Date:&nbsp\;</strong>&nbsp
 \; Tuesday\, October 8\, 2025</p><p>🕘<strong> Time: </strong>9:30 AM – 10
 :40 AM CET&nbsp\;</p><p><strong>💻 Online:</strong> Free to attend</p><p><
 a href="https://app.livestorm.co/sopra-steria-5/payment-innovation?s=a2a52
 fcc-eb47-4910-b327-439d4439879c&amp\;utm_source=chatgpt.com" target="_blan
 k" class="btn-ssg">Register Here</a></p><h3>How do you stay relevant in a 
 multi-wallet world?&nbsp\;</h3><div><p>As mobile wallets and proximity pay
 ments evolve\, banks face a pivotal challenge: own the interface or become
  invisible. With PSD3 and the Payment Services Regulation (PSR) on the hor
 izon\, new models like <strong>Tap to Pay by Account</strong> are no longe
 r niche\, they’re defining the future of in-store payments.&nbsp\;</p></di
 v><div><p>In this 70-minute webinar\, we explore how leading European play
 ers are shaping the next wave of payment experiences\, and what that means
  for banks across the Benelux and beyond.&nbsp\;</p></div><div><p>This ses
 sion will equip you with answers to questions like:&nbsp\;</p></div><ul><l
 i>What does <strong>Tap to Pay by Account </strong>mean for customer journ
 eys?&nbsp\;</li><li>How do <strong>wallet ecosystems </strong>and <strong>
 NFC innovations</strong> disrupt traditional POS strategies?&nbsp\;</li><l
 i>What regulatory shifts (PSD3\, PSR) must banks anticipate now?&nbsp\;</l
 i><li>How can financial institutions remain visible and trusted in third-p
 arty wallets?&nbsp\;</li></ul><h3>Speakers:</h3><ul><li><strong>Ludovic FR
 ANCESCONI&nbsp\;</strong><br>Chief Member &amp\; Strategy Officer\, EPI WE
 RO&nbsp\;</li><li><strong>Philippe LEDRU&nbsp\;</strong><br>VP Sales Europ
 e\, IDEMIA&nbsp\;</li><li><strong>Christian PIRKNER&nbsp\;</strong><br>CEO
 \, Bluecode&nbsp\;</li><li><strong>Bjorn SKJELBRED&nbsp\;</strong><br>SVP 
 International Business Development\, VIPPS MobilePay&nbsp\;</li><li><stron
 g>Moderator: Guillaume YRIBARREN&nbsp\;</strong><br>Consulting Managing Di
 rector\, Galitt (Sopra Steria Group)&nbsp\;</li></ul><div><h3>Registration
 &nbsp\;</h3></div><div><p>Reserve your spot now and join us live:</p><p><a
  href="https://app.livestorm.co/sopra-steria-5/payment-innovation?s=a2a52f
 cc-eb47-4910-b327-439d4439879c&amp\;utm_source=chatgpt.com" target="_blank
 " class="btn-ssg">Register Here</a></p><h3>More insights&nbsp\;</h3><p>Int
 erested in exploring how digital wallets are evolving in Europe?</p><p><a 
 href="https://www.soprasteria.lu/docs/librariesprovider2/sopra-steria-corp
 orate/publications/the-battle-of-wallets-in-french---whitepaper-english83a
 84f34e7fd6c36b458ff000034b0d9.pdf?sfvrsn=815423db_52&amp\;utm_source=chatg
 pt.com" class="btn-ssg" target="_blank"> Download our white paper: The Bat
 tle of Wallets&nbsp\;</a></p></div>
END:VEVENT
END:VCALENDAR
