BEGIN:VCALENDAR
VERSION:2.0
METHOD:PUBLISH
PRODID:-//Telerik Inc.//Sitefinity CMS 13.3//EN
BEGIN:VTIMEZONE
TZID:W. Europe Standard Time
BEGIN:STANDARD
DTSTART:20251002T030000
RRULE:FREQ=YEARLY;BYDAY=-1SU;BYHOUR=3;BYMINUTE=0;BYMONTH=10
TZNAME:W. Europe Standard Time
TZOFFSETFROM:+0200
TZOFFSETTO:+0100
END:STANDARD
BEGIN:DAYLIGHT
DTSTART:20250301T020000
RRULE:FREQ=YEARLY;BYDAY=-1SU;BYHOUR=2;BYMINUTE=0;BYMONTH=3
TZNAME:W. Europe Daylight Time
TZOFFSETFROM:+0100
TZOFFSETTO:+0200
END:DAYLIGHT
END:VTIMEZONE
BEGIN:VEVENT
DESCRIPTION:Simplify your budgeting process&nbsp\;Ready to plan faster\, pr
 edict smarter\, and achieve more? Join us for an exclusive hands-on worksh
 op in collaboration with SAP to revolutionize your approach to collaborati
 ve budgeting. Learn how to tackle complexities\, streamline processes\, an
 d align teams using cutting-edge tools and strategies.&nbsp\;Register NowW
 orkshop Details:&nbsp\;When:&nbsp\;Date: February 6th\, 2025&nbsp\;Welcome
 : 1:00 PM&nbsp\;Hands-On Workshop: 1:30 PM - 4:00 PM&nbsp\;Networking Sess
 ion: 4:00 PM - 5:00 PM&nbsp\; Where:&nbsp\;Sopra Steria Office Brussels&nb
 sp\;Avenue Arnaud Fraiteurlaan 15-23\, B-1050 Brussels&nbsp\;Triomphe @ La
  Terrasse (2nd Floor)&nbsp\;What You’ll Gain:&nbsp\;Expert Insights: Learn
  from industry leaders on simplifying collaboration in budgeting.&nbsp\;Pr
 actical Solutions: Hands-on experience with the latest SAP tools and techn
 iques.&nbsp\;Networking Opportunities: Connect with like-minded profession
 als to exchange ideas.&nbsp\;What to Bring:&nbsp\;Don’t forget your laptop
 —this is an interactive session!&nbsp\;Reserve Your Spot Now: Spaces are l
 imited for this exclusive event. Apply now to secure your place and take t
 he first step toward transforming your budgeting process.&nbsp\;Register N
 owDon’t miss this opportunity to streamline your budgeting with SAP. We lo
 ok forward to welcoming you!&nbsp\;You can now manually insert this conten
 t into the respective sections of your document. If you need any further a
 ssistance\, feel free to ask!&nbsp\;
DTEND:20250206T160000Z
DTSTAMP:20260424T081538Z
DTSTART:20250206T120000Z
LOCATION:
SEQUENCE:0
SUMMARY:Collaborative budget processing with SAP
UID:RFCALITEM639126225380564099
X-ALT-DESC;FMTTYPE=text/html:<div><h2>Simplify your budgeting process&nbsp\
 ;</h2></div><div><p>Ready to plan faster\, predict smarter\, and achieve m
 ore? Join us for an exclusive hands-on workshop in collaboration with SAP 
 to revolutionize your approach to collaborative budgeting. Learn how to ta
 ckle complexities\, streamline processes\, and align teams using cutting-e
 dge tools and strategies.&nbsp\;</p></div><div><p><a href="https://share-e
 u1.hsforms.com/1pPi3argRQMq6AMUc6OEqtg4btab?redirectUrl=https%3A%2F%2Fapp-
 eu1.hubspot.com%2Fforms%2F7269635%2F" class="btn-ssg">Register Now</a></p>
 </div><div><h2>Workshop Details:&nbsp\;</h2></div><div><h3>When:&nbsp\;</h
 3></div><ul><li><strong>Date:</strong> February 6th\, 2025&nbsp\;</li><li>
 <strong>Welcome</strong>: 1:00 PM&nbsp\;</li><li><strong>Hands-On Workshop
 :</strong> 1:30 PM - 4:00 PM&nbsp\;</li><li><strong>Networking Session:</s
 trong> 4:00 PM - 5:00 PM&nbsp\;</li></ul><div><h3> Where:&nbsp\;</h3></div
 ><p>Sopra Steria Office Brussels&nbsp\;</p><p>Avenue Arnaud Fraiteurlaan 1
 5-23\, B-1050 Brussels&nbsp\;</p><p>Triomphe @ La Terrasse (2nd Floor)&nbs
 p\;</p><div><h2>What You’ll Gain:&nbsp\;</h2></div><ul><li><strong>Expert 
 Insights: </strong>Learn from industry leaders on simplifying collaboratio
 n in budgeting.&nbsp\;</li><li><strong>Practical Solutions: </strong>Hands
 -on experience with the latest SAP tools and techniques.&nbsp\;</li><li><s
 trong>Networking Opportunities:</strong> Connect with like-minded professi
 onals to exchange ideas.&nbsp\;<br></li></ul><div><h3>What to Bring:&nbsp\
 ;</h3></div><div><p>Don’t forget your laptop—this is an interactive sessio
 n!&nbsp\;<span style="background-color: rgba(0\, 0\, 0\, 0)\; color: inher
 it\; font-family: &quot\;Open Sans Condensed&quot\;\, sans-serif\; font-si
 ze: var(--font-size-h3)\; font-weight: bold\; text-align: inherit\; text-t
 ransform: inherit\; word-spacing: normal\; white-space: inherit"></span></
 p></div><div><p></p></div><div><h3>Reserve Your Spot Now: </h3><p>Spaces a
 re limited for this exclusive event. Apply now to secure your place and ta
 ke the first step toward transforming your budgeting process.&nbsp\;</p></
 div><div><p style="text-align: center"><a href="https://share-eu1.hsforms.
 com/1pPi3argRQMq6AMUc6OEqtg4btab?redirectUrl=https%3A%2F%2Fapp-eu1.hubspot
 .com%2Fforms%2F7269635%2F" class="btn-ssg">Register Now</a></p></div><div>
 <p>Don’t miss this opportunity to streamline your budgeting with SAP. We l
 ook forward to welcoming you!&nbsp\;</p></div><div><p>You can now manually
  insert this content into the respective sections of your document. If you
  need any further assistance\, feel free to ask!&nbsp\;</p></div>
END:VEVENT
END:VCALENDAR
