BEGIN:VCALENDAR
VERSION:2.0
METHOD:PUBLISH
PRODID:-//Telerik Inc.//Sitefinity CMS 13.3//EN
BEGIN:VTIMEZONE
TZID:Romance Standard Time
BEGIN:STANDARD
DTSTART:20251002T030000
RRULE:FREQ=YEARLY;BYDAY=-1SU;BYHOUR=3;BYMINUTE=0;BYMONTH=10
TZNAME:Romance Standard Time
TZOFFSETFROM:+0200
TZOFFSETTO:+0100
END:STANDARD
BEGIN:DAYLIGHT
DTSTART:20250301T020000
RRULE:FREQ=YEARLY;BYDAY=-1SU;BYHOUR=2;BYMINUTE=0;BYMONTH=3
TZNAME:Romance Daylight Time
TZOFFSETFROM:+0100
TZOFFSETTO:+0200
END:DAYLIGHT
END:VTIMEZONE
BEGIN:VEVENT
DESCRIPTION:Know More&nbsp\;&nbsp\;
DTEND:20241002T160000Z
DTSTAMP:20260424T044459Z
DTSTART:20241001T070000Z
LOCATION:
SEQUENCE:0
SUMMARY:AI & Big Data Expo
UID:RFCALITEM639126098996050956
X-ALT-DESC;FMTTYPE=text/html:<a href="https://www.ai-expo.net/europe/" clas
 s="btn-ssg">Know More&nbsp\;</a><br><p>&nbsp\;</p>
END:VEVENT
END:VCALENDAR
