BEGIN:VCALENDAR
VERSION:2.0
METHOD:PUBLISH
PRODID:-//Telerik Inc.//Sitefinity CMS 13.3//EN
BEGIN:VTIMEZONE
TZID:Romance Standard Time
BEGIN:STANDARD
DTSTART:20251002T030000
RRULE:FREQ=YEARLY;BYDAY=-1SU;BYHOUR=3;BYMINUTE=0;BYMONTH=10
TZNAME:Romance Standard Time
TZOFFSETFROM:+0200
TZOFFSETTO:+0100
END:STANDARD
BEGIN:DAYLIGHT
DTSTART:20250301T020000
RRULE:FREQ=YEARLY;BYDAY=-1SU;BYHOUR=2;BYMINUTE=0;BYMONTH=3
TZNAME:Romance Daylight Time
TZOFFSETFROM:+0100
TZOFFSETTO:+0200
END:DAYLIGHT
END:VTIMEZONE
BEGIN:VEVENT
DESCRIPTION:Unlock the Future of Semantic Data Management and AI at Semanti
 cs 2024Join us at the premier conference on Linked Data\, Semantics\, AI\,
  and Data Science from September 17th to 19th\, 2024\, at the Meervaart Th
 eatre in Amsterdam and online.Semantics 2024 is a unique event where acade
 mia meets industry to explore the latest advancements in technology. As we
  celebrate the 20th anniversary of this renowned conference\, we invite yo
 u to dive into cutting-edge discussions\, witness breakthrough demonstrati
 ons\, and connect with industry leaders.Why Attend?Exclusive Keynote by ou
 r Semantic Experts: Discover the transformative power of semantics and AI 
 in business during our keynote session. We will be highlighting our AI pro
 gramme\, and our Semantic Data Management and Smart Semantic Search soluti
 ons.Hands-on Workshops: Participate in our specialised workshop on Large L
 anguage Models (LLMs) and Knowledge Graphs\, where we'll present real-worl
 d use cases and practical examples.Networking Opportunities &amp\; live de
 mo: Visit our Sopra Steria booth for a chance to connect with our experts\
 , explore our live demo on Smart Semantic Search\, and engage in stimulati
 ng discussions under the slogan “Change our mind.”Register by 10th Septemb
 er to claim your free one-day ticket live or online. But hurry\, we’re onl
 y offering 10 tickets\, and they’ll be given out on a first come\, first s
 erved basis. Don’t miss this opportunity to gain access to exclusive conte
 nt and networking sessions at no cost.&nbsp\;I want to joinEvent Details:D
 ate: September 17th – September 19th\, 2024Location: Meervaart Theatre\, A
 msterdam &amp\; OnlineSecure Your Spot Before It’s Too LateDon't miss out 
 on the opportunity to gain valuable insights and connect with like-minded 
 professionals.Secure your spot now
DTEND:20240919T160000Z
DTSTAMP:20260424T075824Z
DTSTART:20240917T070000Z
LOCATION:
SEQUENCE:0
SUMMARY:SEMANTiCS 2024: International Conference on Semantic Systems
UID:RFCALITEM639126215047697178
X-ALT-DESC;FMTTYPE=text/html:<h3>Unlock the Future of Semantic Data Managem
 ent and AI at Semantics 2024</h3><p>Join us at the premier conference on L
 inked Data\, Semantics\, AI\, and Data Science from September 17th to 19th
 \, 2024\, at the Meervaart Theatre in Amsterdam and online.</p><p>Semantic
 s 2024 is a unique event where academia meets industry to explore the late
 st advancements in technology. As we celebrate the 20th anniversary of thi
 s renowned conference\, we invite you to dive into cutting-edge discussion
 s\, witness breakthrough demonstrations\, and connect with industry leader
 s.</p><h3>Why Attend?<br></h3><ul><li><strong>Exclusive Keynote by our Sem
 antic Experts:</strong> Discover the transformative power of semantics and
  AI in business during our keynote session. We will be highlighting our AI
  programme\, and our Semantic Data Management and Smart Semantic Search so
 lutions.<br></li><li><strong>Hands-on Workshops:</strong> Participate in o
 ur specialised workshop on Large Language Models (LLMs) and Knowledge Grap
 hs\, where we'll present real-world use cases and practical examples.<br><
 /li><li><strong>Networking Opportunities &amp\; live demo: </strong>Visit 
 our Sopra Steria booth for a chance to connect with our experts\, explore 
 our live demo on Smart Semantic Search\, and engage in stimulating discuss
 ions under the slogan “Change our mind.”</li></ul><p>Register by 10th Sept
 ember to claim your free one-day ticket live or online. But hurry\, we’re 
 only offering 10 tickets\, and they’ll be given out on a first come\, firs
 t served basis. Don’t miss this opportunity to gain access to exclusive co
 ntent and networking sessions at no cost.&nbsp\;<span style="background-co
 lor: rgba(0\, 0\, 0\, 0)\; color: inherit\; font-family: inherit\; font-si
 ze: inherit\; text-align: inherit\; text-transform: inherit\; word-spacing
 : normal\; white-space: inherit"></span></p><p><a href="https://www.sopras
 teria.lu/events/semantic-data-2024" style="background-color: rgba(255\, 25
 5\, 255\, 1)" class="btn-ssg">I want to join</a><br></p><h3>Event Details:
 </h3><p>Date: September 17th – September 19th\, 2024<br>Location: Meervaar
 t Theatre\, Amsterdam &amp\; Online</p><p>Secure Your Spot Before It’s Too
  Late<br>Don't miss out on the opportunity to gain valuable insights and c
 onnect with like-minded professionals.</p><p><a href="https://www.sopraste
 ria.lu/events/semantic-data-2024" class="btn-ssg">Secure your spot now</a>
 </p>
END:VEVENT
END:VCALENDAR
