BEGIN:VCALENDAR
VERSION:2.0
METHOD:PUBLISH
PRODID:-//Telerik Inc.//Sitefinity CMS 13.3//EN
BEGIN:VTIMEZONE
TZID:Romance Standard Time
BEGIN:STANDARD
DTSTART:20251002T030000
RRULE:FREQ=YEARLY;BYDAY=-1SU;BYHOUR=3;BYMINUTE=0;BYMONTH=10
TZNAME:Romance Standard Time
TZOFFSETFROM:+0200
TZOFFSETTO:+0100
END:STANDARD
BEGIN:DAYLIGHT
DTSTART:20250301T020000
RRULE:FREQ=YEARLY;BYDAY=-1SU;BYHOUR=2;BYMINUTE=0;BYMONTH=3
TZNAME:Romance Daylight Time
TZOFFSETFROM:+0100
TZOFFSETTO:+0200
END:DAYLIGHT
END:VTIMEZONE
BEGIN:VEVENT
DESCRIPTION:Are you facing challenges with End-User Performance during your
  Business Process Transformation journey?You may be asking yourself questi
 ons such as:How can I have a direct impact on end-user efficiency and make
  the most of enhancing their performance?How can I define a multi-channel 
 &amp\; process automation strategy that will result in higher productivity
 ?How can I provide user-centric process interactions (devices\, roles\, lo
 cations\, etc.) that are tailored around business &amp\; user needs?How ca
 n I make quick decisions thanks to real-time information and avoid signifi
 cant process costs &amp\; time?Join our workshop to explore Design Thinkin
 g principles\, enabling you to reimagine your business processes\, enhance
  operations\, and fast-track growth through a robust End-User Performance 
 strategy.Register hereWhy Attend Design Thinking Workshop?Design Thinking 
 for Innovation:&nbsp\;Immerse yourself in the Design Thinking methodology 
 and learn how this user-centric approach can ignite innovation\, solve com
 plex problems\, and uncover new opportunities for your organization.Intera
 ctive Sessions with End-User Performance Experts:&nbsp\;Engage with our ex
 pert consultants who will share expertise and best practices to help you t
 o maximize the benefits of your digital transformation.Benefits of an effe
 ctive End-User Performance strategy:&nbsp\;Explore the features and benefi
 ts that a good End-User Performance strategy can bring to your business. T
 his will enable you to gain greater visibility into your operations\, allo
 wing you to identify and rectify any existing inefficiencies for continuou
 s improvement.We understand that End-User Performance is a continuous and 
 demanding journey. That's why our Design Thinking workshop has been carefu
 lly crafted to provide you with deep insights\, practical guidance\, and i
 nspiring perspectives to make your digital transformation a resounding suc
 cess.Register here
DTEND:20231018T110000Z
DTSTAMP:20260424T074620Z
DTSTART:20231018T070000Z
LOCATION:
SEQUENCE:0
SUMMARY:Design Thinking Workshop: End-User Performance Strategy
UID:RFCALITEM639126207804304339
X-ALT-DESC;FMTTYPE=text/html:<p></p><p>Are you facing challenges with End-U
 ser Performance during your Business Process Transformation journey?<br></
 p><p>You may be asking yourself questions such as:</p><ul><li>How can I ha
 ve a direct impact on end-user efficiency and make the most of enhancing t
 heir performance?</li><li>How can I define a multi-channel &amp\; process 
 automation strategy that will result in higher productivity?</li><li>How c
 an I provide user-centric process interactions (devices\, roles\, location
 s\, etc.) that are tailored around business &amp\; user needs?</li><li>How
  can I make quick decisions thanks to real-time information and avoid sign
 ificant process costs &amp\; time?</li></ul><p>Join our workshop to explor
 e Design Thinking principles\, enabling you to reimagine your business pro
 cesses\, enhance operations\, and fast-track growth through a robust End-U
 ser Performance strategy.<br></p><p><a target="_blank" href="527B0D34-E7FD
 -6C36-B458-FF000034B0D9"><span lang="EN-US" class="btn-custom-red btn--arr
 ow-right">Register here</span></a><span lang="EN-US"></span><br></p><h3><s
 pan lang="EN-US">Why Attend Design Thinking Workshop</span><span lang="EN-
 US">?</span></h3><p></p><ul><li><strong>Design Thinking for Innovation:</s
 trong>&nbsp\;Immerse yourself in the Design Thinking methodology and learn
  how this user-centric approach can ignite innovation\, solve complex prob
 lems\, and uncover new opportunities for your organization.</li><li><stron
 g>Interactive Sessions with End-User Performance Experts:</strong>&nbsp\;E
 ngage with our expert consultants who will share expertise and best practi
 ces to help you to maximize the benefits of your digital transformation.</
 li><li><strong>Benefits of an effective End-User Performance strategy:&nbs
 p\;</strong>Explore the features and benefits that a good End-User Perform
 ance strategy can bring to your business. This will enable you to gain gre
 ater visibility into your operations\, allowing you to identify and rectif
 y any existing inefficiencies for continuous improvement.<br></li></ul><p>
 We understand that End-User Performance is a continuous and demanding jour
 ney. That's why our Design Thinking workshop has been carefully crafted to
  provide you with deep insights\, practical guidance\, and inspiring persp
 ectives to make your digital transformation a resounding success.</p><p><a
  target="_blank" href="527B0D34-E7FD-6C36-B458-FF000034B0D9"><span lang="E
 N-US" class="btn-custom-red btn--arrow-right">Register here</span></a></p>
END:VEVENT
END:VCALENDAR
