BEGIN:VCALENDAR
VERSION:2.0
METHOD:PUBLISH
PRODID:-//Telerik Inc.//Sitefinity CMS 13.3//EN
BEGIN:VTIMEZONE
TZID:Romance Standard Time
BEGIN:STANDARD
DTSTART:20251002T030000
RRULE:FREQ=YEARLY;BYDAY=-1SU;BYHOUR=3;BYMINUTE=0;BYMONTH=10
TZNAME:Romance Standard Time
TZOFFSETFROM:+0200
TZOFFSETTO:+0100
END:STANDARD
BEGIN:DAYLIGHT
DTSTART:20250301T020000
RRULE:FREQ=YEARLY;BYDAY=-1SU;BYHOUR=2;BYMINUTE=0;BYMONTH=3
TZNAME:Romance Daylight Time
TZOFFSETFROM:+0100
TZOFFSETTO:+0200
END:DAYLIGHT
END:VTIMEZONE
BEGIN:VEVENT
DESCRIPTION:Experience a dynamic program during a two-day trade show on 29t
 h and 30th of May. We are present showcasing cutting-edge solutions\, an i
 nsightful keynote and the innovation of cybersecurity to combat cybercrime
  and drive progress.I want to joinBe part of the keynote session by Ivana 
 ButoracIvana Butorac is the EU Cyber Compliance manager in Sopra Steria Be
 lgium. During the keynote\, she will dive into the cybersecurity chess gam
 e\, highlighting how AI reigns and emphasizing the importance of legal mov
 es and compliance strategies. With 7 years of experience in IT industry\, 
 she knows better than anyone that legal moves and compliance strategies ne
 ed to be aligned in order to be successful. This strategic approach to cyb
 ersecurity\, related to a chess game\, aims for a checkmate. By understand
 ing the process\, you will gain insights to craft effective cybersecurity 
 solutions.Read moreVisit our booth&nbsp\;At Cybersec Europe 2024 you can a
 lso visit our booth drink a nice cocktail and discover more about our cybe
 rsecurity strategy on the basis of demos that focus on strategy\, preventi
 on\, protection and detection &amp\; response. To ensure you can easily lo
 cate\n    us\, remember our booth number: 05C060. We can't wait to meet yo
 u there.&nbsp\;&nbsp\;Secure your spot now
DTEND:20240530T160000Z
DTSTAMP:20260424T074831Z
DTSTART:20240529T070000Z
LOCATION:
SEQUENCE:0
SUMMARY:Secure your future: Join us at Cybersec Europe 2024
UID:RFCALITEM639126209116384772
X-ALT-DESC;FMTTYPE=text/html:<p><strong><span style="color: rgba(0\, 0\, 0\
 , 1)">Experience a dynamic program during a two-day trade show on 29<sup>t
 h</sup> and 30<sup>th</sup> of May. We are present showcasing cutting-edge
  solutions\, an insightful keynote and the innovation of cybersecurity to 
 combat cybercrime and drive progress.</span></strong></p><p><span style="c
 olor: rgba(0\, 0\, 0\, 1)"><a href="https://events.jaarbeurs.nl/cyberseceu
 rope2024/begin?reg_type_id=527757&amp\;ref=00074526" target="_blank" class
 ="btn-ssg">I want to join</a></span></p><p><strong><span style="font-size:
  12pt\; line-height: 107%\; color: rgba(0\, 0\, 0\, 1)">Be part of the key
 note session by Ivana Butorac</span></strong><span style="font-size: 12pt\
 ; line-height: 107%\; color: rgba(0\, 0\, 0\, 1)"></span></p><p><span styl
 e="color: rgba(0\, 0\, 0\, 1)">Ivana Butorac is the EU Cyber Compliance ma
 nager in Sopra Steria Belgium. During the keynote\, she will dive into the
  cybersecurity chess game\, highlighting how AI reigns and emphasizing the
  importance of legal moves and compliance strategies. </span></p><p><span 
 style="color: rgba(0\, 0\, 0\, 1)">With 7 years of experience in IT indust
 ry\, she knows better than anyone that legal moves and compliance strategi
 es need to be aligned in order to be successful. This strategic approach t
 o cybersecurity\, related to a chess game\, aims for a checkmate. By under
 standing the process</span><span style="color: rgba(0\, 0\, 0\, 1)">\, you
  will gain insights to craft effective cybersecurity solutions.</span></p>
 <p><span style="color: rgba(0\, 0\, 0\, 1)"><a href="https://www.sopraster
 ia.lu/docs/librariesprovider2/sopra-steria-benelux-documents/webinar-event
 -docs/unveiling-the-strategic-cybersecurity-chess-game-at-cybersec-europe-
 2024.pdf?sfvrsn=b1346db_5" class="btn-ssg" target="_blank">Read more<span 
 style="color: rgba(0\, 0\, 0\, 1)"></span><span style="color: rgba(0\, 0\,
  0\, 1)"></span></a><span style="background-color: rgba(0\, 0\, 0\, 0)\; c
 olor: inherit\; font-family: inherit\; font-size: inherit\; text-align: in
 herit\; text-transform: inherit\; word-spacing: normal\; white-space: inhe
 rit"></span></span></p><p><span style="color: rgba(0\, 0\, 0\, 1)"><span s
 tyle="background-color: rgba(0\, 0\, 0\, 0)\; color: inherit\; font-family
 : inherit\; font-size: inherit\; text-align: inherit\; text-transform: inh
 erit\; word-spacing: normal\; white-space: inherit"></span></span><span st
 yle="color: rgba(0\, 0\, 0\, 1)"><span style="background-color: rgba(0\, 0
 \, 0\, 0)\; color: inherit\; font-family: inherit\; font-size: inherit\; t
 ext-align: inherit\; text-transform: inherit\; word-spacing: normal\; whit
 e-space: inherit"></span><strong style="background-color: rgba(0\, 0\, 0\,
  0)\; color: inherit\; font-size: inherit\; text-align: inherit\; text-tra
 nsform: inherit\; word-spacing: normal\; white-space: inherit"><span style
 ="font-size: 12pt\; line-height: 107%\; color: rgba(0\, 0\, 0\, 1)">Visit 
 our booth&nbsp\;</span></strong></span></p><p><span style="font-size: 12pt
 \; line-height: 107%\; color: rgba(0\, 0\, 0\, 1)"></span></p><p>At Cybers
 ec Europe 2024 you can also visit our booth drink a nice cocktail and disc
 over more about our cybersecurity strategy on the basis of demos that focu
 s on strategy\, prevention\, protection and detection &amp\; response. To 
 ensure you can easily locate\n    us\, remember our booth number: 05C060. 
 We can't wait to meet you there.&nbsp\;&nbsp\;</p><p><span style="backgrou
 nd-color: rgba(0\, 0\, 0\, 0)\; color: inherit\; font-family: inherit\; fo
 nt-size: inherit\; text-align: inherit\; text-transform: inherit\; word-sp
 acing: normal\; white-space: inherit"><a href="https://events.jaarbeurs.nl
 /cyberseceurope2024/begin?reg_type_id=527757&amp\;ref=00074526" target="_b
 lank" class="btn-ssg">Secure your spot now</a></span><br></p>
END:VEVENT
END:VCALENDAR
