BEGIN:VCALENDAR
VERSION:2.0
METHOD:PUBLISH
PRODID:-//Telerik Inc.//Sitefinity CMS 13.3//EN
BEGIN:VEVENT
DESCRIPTION:Join Sopra Steria's experts at this key event for professionals
  in the sector.&nbsp\;World Summit AI\, the world’s largest dedicated summ
 it in AI and emerging technology – spotlighting the worldwide applications
 \, risks\, benefits and opportunities involved.Deep Dive Tech TalksTuesday
  9th October 14:30 - 14:50Use case: Sopra Steria’s NextGen AI at Scale: Re
 shaping the World of Search NowWith :Isabelle Pons\, AI Programme Chief Op
 erating Officer\, Sopra SteriaHarold Selman\, Solution Lead Data Science &
 amp\; AI\, Sopra SteriaPaul Verhaar\, Practice Lead Data Science &amp\; AI
 \, Sopra Steria
DTEND;VALUE=DATE:20241011
DTSTAMP:20260424T075254Z
DTSTART;VALUE=DATE:20241009
LOCATION:
SEQUENCE:0
SUMMARY:World Summit AI 2024
UID:RFCALITEM639126211748047705
X-ALT-DESC;FMTTYPE=text/html:<p>Join Sopra Steria's experts at this key eve
 nt for professionals in the sector.&nbsp\;</p><p>World Summit AI\, the wor
 ld’s largest dedicated summit in AI and emerging technology – spotlighting
  the worldwide applications\, risks\, benefits and opportunities involved.
 </p><h2>Deep Dive Tech Talks</h2><p>Tuesday 9th October 14:30 - 14:50</p><
 p>Use case: <strong>Sopra Steria’s NextGen AI at Scale: Reshaping the Worl
 d of Search Now</strong></p><p>With :</p><ul><li>Isabelle Pons\, AI Progra
 mme Chief Operating Officer\, Sopra Steria</li><li>Harold Selman\, Solutio
 n Lead Data Science &amp\; AI\, Sopra Steria</li><li>Paul Verhaar\, Practi
 ce Lead Data Science &amp\; AI\, Sopra Steria</li></ul>
END:VEVENT
END:VCALENDAR
