BEGIN:VCALENDAR
VERSION:2.0
METHOD:PUBLISH
PRODID:-//Telerik Inc.//Sitefinity CMS 13.3//EN
BEGIN:VTIMEZONE
TZID:UTC
BEGIN:STANDARD
DTSTART;VALUE=DATE:20250101
TZNAME:UTC
TZOFFSETFROM:+0000
TZOFFSETTO:+0000
END:STANDARD
END:VTIMEZONE
BEGIN:VEVENT
DESCRIPTION:Unlock the full potential of semantic data management and AI at
 &nbsp\;Semantics Beyond\, our exclusive follow-up event to the Semantics 2
 024 conference. On&nbsp\;13th November 2024\, Sopra Steria experts will gu
 ide you through in-depth discussions on data management\, AI\, and semanti
 c search technology. Join us and peers for an interactive afternoon of kno
 wledge sharing and networking.REGISTER NOWWhy attend?Learn from AI and sem
 antic data expertsEngage in interactive discussions on data fabric\, seman
 tic modelling\, and regulationsExplore practical solutions for becoming a 
 data-driven organisationNetwork with industry peers and gain actionable in
 sightsKey themes:AI and large language models: The future of semantic sear
 ch and complianceData fabric: Unlocking the power of semantic integrationS
 emantic modelling: How to create sustainable knowledge management systems\
 , usable by both humans&nbsp\;and&nbsp\;machinesOrganisational change: Pra
 ctical steps to implement semantic technology in your businessEvent Detail
 s:Date:&nbsp\;Wednesday\, 13th November 2024Time:&nbsp\;14:00 - 18:00 (dri
 nks from 17:00)Location:&nbsp\;Sopra Steria HQ\, Nieuwegein\, NetherlandsS
 eats are limited!&nbsp\;Don’t miss this opportunity to gain valuable insig
 hts and network with professionals across industries.REGISTER NOW
DTEND:20241113T180000Z
DTSTAMP:20260424T074429Z
DTSTART:20241113T140000Z
LOCATION:
SEQUENCE:0
SUMMARY:Semantics Beyond – Dive Deeper into Semantic Innovation
UID:RFCALITEM639126206693014068
X-ALT-DESC;FMTTYPE=text/html:<div data-olk-copy-source="MessageBody"><h3><s
 trong>Unlock the full potential of semantic data management and AI at&nbsp
 \;Semantics Beyond\, our exclusive follow-up event to the Semantics 2024 c
 onference. </strong></h3><p>On&nbsp\;<strong>13th November 2024</strong>\,
  Sopra Steria experts will guide you through in-depth discussions on data 
 management\, AI\, and semantic search technology. Join us and peers for an
  interactive afternoon of knowledge sharing and networking.</p></div><div>
 <p><a href="https://share-eu1.hsforms.com/1sdr6SEInS8unro4TiOOthA4btab" cl
 ass="btn-ssg _btn-ssg_forward a.btn-ssg _btn-ssg_forward:after" style="bac
 kground-color: rgba(255\, 255\, 255\, 1)">REGISTER NOW</a></p><h3>Why atte
 nd?</h3></div><ul><li>Learn from AI and semantic data experts</li><li>Enga
 ge in interactive discussions on data fabric\, semantic modelling\, and re
 gulations</li><li>Explore practical solutions for becoming a data-driven o
 rganisation</li><li>Network with industry peers and gain actionable insigh
 ts</li></ul><div><h3>Key themes:</h3></div><ul><li><strong>AI and large la
 nguage models</strong>: The future of semantic search and compliance</li><
 li><strong>Data fabric</strong>: Unlocking the power of semantic integrati
 on</li><li><strong>Semantic modelling</strong>: How to create sustainable 
 knowledge management systems\, usable by both humans&nbsp\;and&nbsp\;machi
 nes</li><li><strong>Organisational change</strong>: Practical steps to imp
 lement semantic technology in your business</li></ul><div><h3>Event Detail
 s:</h3></div><ul><li><strong>Date</strong>:&nbsp\;Wednesday\, 13th Novembe
 r 2024</li><li><strong>Time</strong>:&nbsp\;14:00 - 18:00 (drinks from 17:
 00)</li><li><strong>Location</strong>:&nbsp\;Sopra Steria HQ\, Nieuwegein\
 , Netherlands</li></ul><div><p><strong>Seats are limited!&nbsp\;Don’t miss
  this opportunity to gain valuable insights and network with professionals
  across industries.</strong></p><p><a href="https://share-eu1.hsforms.com/
 1sdr6SEInS8unro4TiOOthA4btab" class="btn-ssg _btn-ssg_forward a.btn-ssg _b
 tn-ssg_forward:after" style="background-color: rgba(255\, 255\, 255\, 1)">
 REGISTER NOW</a></p></div>
END:VEVENT
END:VCALENDAR
