BEGIN:VCALENDAR
VERSION:2.0
METHOD:PUBLISH
PRODID:-//Telerik Inc.//Sitefinity CMS 13.3//EN
BEGIN:VTIMEZONE
TZID:UTC
BEGIN:STANDARD
DTSTART;VALUE=DATE:20250101
TZNAME:UTC
TZOFFSETFROM:+0000
TZOFFSETTO:+0000
END:STANDARD
END:VTIMEZONE
BEGIN:VEVENT
DESCRIPTION:📅&nbsp\;Date:&nbsp\;Thursday\, January 29\, 2026&nbsp\;🕘&nbsp
 \;Time:&nbsp\;08:30 – 17:30 CET💻 Location:&nbsp\;Hybrid event | The EGG B
 russels Rue Bara 175\, 1070 BrusselsRegister hereOn&nbsp\;29 January 2026\
 , Sopra Steria will participate in the&nbsp\;Simpl&nbsp\;Annual Community 
 Event&nbsp\;in Brussels&nbsp\;as lead partner of the&nbsp\;Infratex&nbsp\;
 consortium&nbsp\;(with NTT). The event brings together the full&nbsp\;Simp
 l&nbsp\;community\,&nbsp\;including EU institutions\, Member States\, data
 -space initiatives\, industry players and researchers\,&nbsp\;to align on 
 the next steps for&nbsp\;Simpl-Open\,&nbsp\;Simpl-Labs and&nbsp\;Simpl-Liv
 e.&nbsp\;Our Highlights&nbsp\;&nbsp\;SC2 – Integration Studies for Multipl
 e Data Spaces&nbsp\;Presentation of key findings on how&nbsp\;Simpl-Open e
 nables interoperability across diverse data spaces.&nbsp\;SC2 –&nbsp\;Euro
 Cloud&nbsp\;Proofs of Concept&nbsp\;Live demo session illustrating innovat
 ive solutions for cloud-to-edge integration and their expected impact.&nbs
 p\;SC3 – Panel Discussion&nbsp\;Our expert will join a high-level panel to
  discuss governance and strategic perspectives for data spaces.&nbsp\;Infr
 atex&nbsp\;Stand in the&nbsp\;Simpl&nbsp\;Marketplace&nbsp\;Explore our vi
 sual stories and demos on&nbsp\;Simpl-Open and&nbsp\;EuroCloud&nbsp\;PoCs\
 , meet our experts\, and engage in Q&amp\;A.Event AgendaWhy It Matters&nbs
 p\;The event is a key milestone for the European data-spaces community\, p
 roviding a platform to exchange insights\, validate approaches and strengt
 hen collaboration. For Sopra Steria and NTT\, it is an opportunity to shar
 e results developed with DG CONNECT and Member States\, and to contribute 
 to shaping the future of interoperable\, secure and open data infrastructu
 re in Europe.&nbsp\;&nbsp\;SpeakersDammini&nbsp\;Maravelakis&nbsp\;Others:
  TBC&nbsp\;Reserve your spot now&nbsp\;
DTEND:20260129T190000Z
DTSTAMP:20260424T080312Z
DTSTART:20260129T180000Z
LOCATION:
SEQUENCE:0
SUMMARY:Simpl Annual Community Event 2026
UID:RFCALITEM639126217927957426
X-ALT-DESC;FMTTYPE=text/html:<p></p><p>📅&nbsp\;<strong>Date:&nbsp\;</stron
 g>Thursday\, January 29\, 2026&nbsp\;</p><p>🕘<strong>&nbsp\;Time:</strong
 >&nbsp\;08:30 – 17:30 CET</p><p>💻 <strong>Location:&nbsp\;</strong>Hybrid
  event | The EGG Brussels Rue Bara 175\, 1070 Brussels</p><p><a href="http
 s://events.onetec.eu/simplevent2026/forms.asp" target="_blank"></a><a clas
 s="btn-ssg">Register here</a></p><p>On&nbsp\;<strong>29 January 2026\,</st
 rong> Sopra Steria will participate in the&nbsp\;<strong>Simpl&nbsp\;Annua
 l Community Event</strong>&nbsp\;in Brussels&nbsp\;as lead partner of the&
 nbsp\;Infratex&nbsp\;consortium&nbsp\;(with NTT). The event brings togethe
 r the full&nbsp\;Simpl&nbsp\;community\,&nbsp\;including EU institutions\,
  Member States\, data-space initiatives\, industry players and researchers
 \,&nbsp\;to align on the next steps for&nbsp\;<em>Simpl-Open\,&nbsp\;Simpl
 -Labs and&nbsp\;Simpl-Live.&nbsp\;</em></p><p><br></p><div><h3>Our Highlig
 hts&nbsp\;&nbsp\;</h3></div><ul><li><strong>SC2 – Integration Studies for 
 Multiple Data Spaces&nbsp\;</strong><br>Presentation of key findings on ho
 w&nbsp\;Simpl-Open enables interoperability across diverse data spaces.&nb
 sp\;</li><li><strong>SC2 –&nbsp\;EuroCloud&nbsp\;Proofs of Concept&nbsp\;<
 /strong><br>Live demo session illustrating innovative solutions for cloud-
 to-edge integration and their expected impact.&nbsp\;</li><li><strong>SC3 
 – Panel Discussion&nbsp\;</strong><br>Our expert will join a high-level pa
 nel to discuss governance and strategic perspectives for data spaces.&nbsp
 \;</li><li><strong>Infratex&nbsp\;Stand in the&nbsp\;Simpl&nbsp\;Marketpla
 ce&nbsp\;</strong><br>Explore our visual stories and demos on&nbsp\;Simpl-
 Open and&nbsp\;EuroCloud&nbsp\;PoCs\, meet our experts\, and engage in Q&a
 mp\;A.</li></ul><p><a href="https://events.onetec.eu/simplevent2026/index.
 html" target="_blank" class="btn-ssg">Event Agenda</a></p><p><a href="http
 s://events.onetec.eu/simplevent2026/index.html"></a></p><div><h3>Why It Ma
 tters&nbsp\;</h3></div><div><p>The event is a key milestone for the Europe
 an data-spaces community\, providing a platform to exchange insights\, val
 idate approaches and strengthen collaboration. For Sopra Steria and NTT\, 
 it is an opportunity to share results developed with DG CONNECT and Member
  States\, and to contribute to shaping the future of interoperable\, secur
 e and open data infrastructure in Europe.&nbsp\;</p></div><p>&nbsp\;</p><d
 iv><h3>Speakers</h3></div><ul><li>Dammini&nbsp\;Maravelakis&nbsp\;</li><li
 >Others: TBC&nbsp\;</li></ul><p><a href="https://events.onetec.eu/simpleve
 nt2026/forms.asp?s=6f048a44-1c81-4f99-a302-af47b2337487#/" target="_blank"
  class="btn-ssg">Reserve your spot now&nbsp\;</a></p>
END:VEVENT
END:VCALENDAR
